BEGIN:VCALENDAR
VERSION:2.0
PRODID:-//hacksw/handcal//NONSGML v1.0//EN
BEGIN:VEVENT
SUMMARY:Fete du club
UID:0322905c-4c7b-4e5d-8c44-e9cbc3077bfe
DTSTART:20260604T220000Z
DTEND:20260605T220000Z
LOCATION:Localisation   
CATEGORIES:Sportif
STATUS:
URL;VALUE=URI:https://www.aquaclub-lepecq-marly.com/evenements/2026/06/05/fete-du-club-2426922
END:VEVENT
END:VCALENDAR
